BEGIN:VCALENDAR
VERSION:2.0
PRODID:-//Timberline Ace Hardware - ECPv6.15.20//NONSGML v1.0//EN
CALSCALE:GREGORIAN
METHOD:PUBLISH
X-WR-CALNAME:Timberline Ace Hardware
X-ORIGINAL-URL:https://timberlineacehardware.com
X-WR-CALDESC:Events for Timberline Ace Hardware
REFRESH-INTERVAL;VALUE=DURATION:PT1H
X-Robots-Tag:noindex
X-PUBLISHED-TTL:PT1H
BEGIN:VTIMEZONE
TZID:America/Denver
BEGIN:DAYLIGHT
TZOFFSETFROM:-0700
TZOFFSETTO:-0600
TZNAME:MDT
DTSTART:20250309T090000
END:DAYLIGHT
BEGIN:STANDARD
TZOFFSETFROM:-0600
TZOFFSETTO:-0700
TZNAME:MST
DTSTART:20251102T080000
END:STANDARD
BEGIN:DAYLIGHT
TZOFFSETFROM:-0700
TZOFFSETTO:-0600
TZNAME:MDT
DTSTART:20260308T090000
END:DAYLIGHT
BEGIN:STANDARD
TZOFFSETFROM:-0600
TZOFFSETTO:-0700
TZNAME:MST
DTSTART:20261101T080000
END:STANDARD
BEGIN:DAYLIGHT
TZOFFSETFROM:-0700
TZOFFSETTO:-0600
TZNAME:MDT
DTSTART:20270314T090000
END:DAYLIGHT
BEGIN:STANDARD
TZOFFSETFROM:-0600
TZOFFSETTO:-0700
TZNAME:MST
DTSTART:20271107T080000
END:STANDARD
END:VTIMEZONE
BEGIN:VEVENT
DTSTART;TZID=America/Denver:20260525T110000
DTEND;TZID=America/Denver:20260525T140000
DTSTAMP:20260423T041556
CREATED:20260417T151109Z
LAST-MODIFIED:20260417T153938Z
UID:6023-1779706800-1779717600@timberlineacehardware.com
SUMMARY:Memorial Day Cookout
DESCRIPTION:Join us for a Memorial Day cookout at the store! \nEnjoy BBQ and take part in our guessing game for a chance to win a $25 gift card. \nStop by\, shop Memorial Day savings\, grab a bite\, and join the fun with the community! \n👉 Follow along for updates and RSVP on Facebook: Click Here
URL:https://timberlineacehardware.com/event/memorial-day-cookout/
LOCATION:Timberline Ace of Battlement Mesa\, Timberline Ace Hardware of Battlement Mesa\, 71 Sipprelle Dr\, Unit 4\, Parachute\, CO\, 81635\, United States
CATEGORIES:Battlement Mesa
ATTACH;FMTTYPE=image/jpeg:https://timberlineacehardware.com/wp-content/uploads/2026/04/BM-event-cover-website-GMB-post-cookout.jpg
END:VEVENT
END:VCALENDAR