BEGIN:VCALENDAR
VERSION:2.0
PRODID:-//Timberline Ace Hardware - ECPv6.15.20//NONSGML v1.0//EN
CALSCALE:GREGORIAN
METHOD:PUBLISH
X-ORIGINAL-URL:https://timberlineacehardware.com
X-WR-CALDESC:Events for Timberline Ace Hardware
REFRESH-INTERVAL;VALUE=DURATION:PT1H
X-Robots-Tag:noindex
X-PUBLISHED-TTL:PT1H
BEGIN:VTIMEZONE
TZID:America/Denver
BEGIN:DAYLIGHT
TZOFFSETFROM:-0700
TZOFFSETTO:-0600
TZNAME:MDT
DTSTART:20240310T090000
END:DAYLIGHT
BEGIN:STANDARD
TZOFFSETFROM:-0600
TZOFFSETTO:-0700
TZNAME:MST
DTSTART:20241103T080000
END:STANDARD
BEGIN:DAYLIGHT
TZOFFSETFROM:-0700
TZOFFSETTO:-0600
TZNAME:MDT
DTSTART:20250309T090000
END:DAYLIGHT
BEGIN:STANDARD
TZOFFSETFROM:-0600
TZOFFSETTO:-0700
TZNAME:MST
DTSTART:20251102T080000
END:STANDARD
BEGIN:DAYLIGHT
TZOFFSETFROM:-0700
TZOFFSETTO:-0600
TZNAME:MDT
DTSTART:20260308T090000
END:DAYLIGHT
BEGIN:STANDARD
TZOFFSETFROM:-0600
TZOFFSETTO:-0700
TZNAME:MST
DTSTART:20261101T080000
END:STANDARD
END:VTIMEZONE
BEGIN:VEVENT
DTSTART;VALUE=DATE:20251202
DTEND;VALUE=DATE:20251225
DTSTAMP:20260424T043652
CREATED:20251209T214828Z
LAST-MODIFIED:20251210T182710Z
UID:1782-1764633600-1766620799@timberlineacehardware.com
SUMMARY:Wrap It In Red Deals - Battlement Mesa
DESCRIPTION:Wrap It in Red starts now! Stop by your local Timberline Ace to shop deals on grills\, power tools\, holiday lighting\, and more. Plus\, Ace Rewards members get an exclusive 25% off coupon and a bonus $10 gift card when you buy a $50 Ace gift card\, valid December 2–24. \nTake a look at this month’s offers: http://acehardware.com
URL:https://timberlineacehardware.com/event/wrap-it-in-red-event-battlement-mesa/
LOCATION:Timberline Ace of Battlement Mesa\, Timberline Ace Hardware of Battlement Mesa\, 71 Sipprelle Dr\, Unit 4\, Parachute\, CO\, 81635\, United States
CATEGORIES:Battlement Mesa
ATTACH;FMTTYPE=image/jpeg:https://timberlineacehardware.com/wp-content/uploads/2025/09/Ornament-Decorating-1.jpg
END:VEVENT
END:VCALENDAR