BEGIN:VCALENDAR
VERSION:2.0
PRODID:-//Timberline Ace Hardware - ECPv6.15.20//NONSGML v1.0//EN
CALSCALE:GREGORIAN
METHOD:PUBLISH
X-ORIGINAL-URL:https://timberlineacehardware.com
X-WR-CALDESC:Events for Timberline Ace Hardware
REFRESH-INTERVAL;VALUE=DURATION:PT1H
X-Robots-Tag:noindex
X-PUBLISHED-TTL:PT1H
BEGIN:VTIMEZONE
TZID:America/Denver
BEGIN:DAYLIGHT
TZOFFSETFROM:-0700
TZOFFSETTO:-0600
TZNAME:MDT
DTSTART:20240310T090000
END:DAYLIGHT
BEGIN:STANDARD
TZOFFSETFROM:-0600
TZOFFSETTO:-0700
TZNAME:MST
DTSTART:20241103T080000
END:STANDARD
BEGIN:DAYLIGHT
TZOFFSETFROM:-0700
TZOFFSETTO:-0600
TZNAME:MDT
DTSTART:20250309T090000
END:DAYLIGHT
BEGIN:STANDARD
TZOFFSETFROM:-0600
TZOFFSETTO:-0700
TZNAME:MST
DTSTART:20251102T080000
END:STANDARD
BEGIN:DAYLIGHT
TZOFFSETFROM:-0700
TZOFFSETTO:-0600
TZNAME:MDT
DTSTART:20260308T090000
END:DAYLIGHT
BEGIN:STANDARD
TZOFFSETFROM:-0600
TZOFFSETTO:-0700
TZNAME:MST
DTSTART:20261101T080000
END:STANDARD
BEGIN:DAYLIGHT
TZOFFSETFROM:-0700
TZOFFSETTO:-0600
TZNAME:MDT
DTSTART:20270314T090000
END:DAYLIGHT
BEGIN:STANDARD
TZOFFSETFROM:-0600
TZOFFSETTO:-0700
TZNAME:MST
DTSTART:20271107T080000
END:STANDARD
END:VTIMEZONE
BEGIN:VEVENT
DTSTART;VALUE=DATE:20251226
DTEND;VALUE=DATE:20260201
DTSTAMP:20260420T175442
CREATED:20251209T215404Z
LAST-MODIFIED:20260312T205013Z
UID:1785-1766707200-1769903999@timberlineacehardware.com
SUMMARY:Red Hot Buys
DESCRIPTION:New Year. New Savings. \nKick off the year with Red Hot Buys featuring savings on organization\, tools\, and more. Find the right deals to start projects\, clean up clutter\, and stay prepared all season. \nFind your local store to view current Red Hot Buys: https://timberlineacehardware.com/savings/
URL:https://timberlineacehardware.com/event/red-hot-buys-january-event/
LOCATION:CO
CATEGORIES:Aspen,Battlement Mesa,Carbondale,Clifton,Norwood,Telluride
ATTACH;FMTTYPE=image/jpeg:https://timberlineacehardware.com/wp-content/uploads/2026/03/March-RHB-Event-Cover-2.jpg
END:VEVENT
END:VCALENDAR